BEGIN:VCALENDAR
VERSION:2.0
PRODID:-//Plone.org//NONSGML plone.app.event//EN
X-WR-TIMEZONE:America/Sao_Paulo
BEGIN:VEVENT
SUMMARY:Aula inaugural alunos Coltec ingressantes 2023 em [ Auditorio Nobr
 e do CAD 1]
DTSTART;TZID=America/Sao_Paulo;VALUE=DATE-TIME:20230201T080000
DTEND;TZID=America/Sao_Paulo;VALUE=DATE-TIME:20230201T120000
DTSTAMP;VALUE=DATE-TIME:20260421T163427Z
UID:82f4b1353b9b4b388c5ce37d370c45d6@150.164.76.86:8080
CREATED;VALUE=DATE-TIME:20221024T175752Z
DESCRIPTION:Aula inaugural alunos ingressantes 2023.
LAST-MODIFIED;VALUE=DATE-TIME:20221101T203309Z
URL:http://150.164.76.86:8080/cac/agenda/2970346389193361278
END:VEVENT
BEGIN:VTIMEZONE
TZID:America/Sao_Paulo
X-LIC-LOCATION:America/Sao_Paulo
BEGIN:DAYLIGHT
DTSTART;VALUE=DATE-TIME:20221016T010000
TZNAME:BRST
TZOFFSETFROM:-0300
TZOFFSETTO:-0200
END:DAYLIGHT
END:VTIMEZONE
END:VCALENDAR
