BEGIN:VCALENDAR
VERSION:2.0
PRODID:-//Plone.org//NONSGML plone.app.event//EN
X-WR-TIMEZONE:America/Sao_Paulo
BEGIN:VEVENT
SUMMARY:(Re)Conexões em [ Auditorio A102 do Cad 2]
DTSTART;TZID=America/Sao_Paulo;VALUE=DATE-TIME:20240606T070000
DTEND;TZID=America/Sao_Paulo;VALUE=DATE-TIME:20240606T180000
DTSTAMP;VALUE=DATE-TIME:20260419T235822Z
UID:85e64f11e3d04ef7ac212935b975e0bd@150.164.76.86:8080
CREATED;VALUE=DATE-TIME:20240508T163352Z
DESCRIPTION:<p>O Sistema Estadual de Museus de Minas Gerais está em conta
 to com o Instituto Brasileiro de Museus para realizar um evento do program
 a (Re)Conexões em Minas Gerais\, programa este que busca estreitar laços
  com a sociedade e fortalecer as ações do campo museal. Nesta edição o
  foco será a atualização do Plano Nacional Setorial de Museus e será r
 ealizado apenas em um dia\, com uma plenária geral na parte da manhã e a
  formação de quatro grupos de trabalho na parte da tarde\, para propor a
  criação de diretrizes para a PNSM. Encerrando o dia com a apresentaçã
 o destas diretrizes e a eleição de duas delas para serem debatidas no 8
 º Fórum Nacional de Museus.</p>
LAST-MODIFIED;VALUE=DATE-TIME:20240516T190338Z
URL:http://150.164.76.86:8080/cac/agenda/2962143724282465087
END:VEVENT
BEGIN:VTIMEZONE
TZID:America/Sao_Paulo
X-LIC-LOCATION:America/Sao_Paulo
BEGIN:STANDARD
DTSTART;VALUE=DATE-TIME:20240217T230000
TZNAME:BRT
TZOFFSETFROM:-0200
TZOFFSETTO:-0300
END:STANDARD
END:VTIMEZONE
END:VCALENDAR
