BEGIN:VCALENDAR
VERSION:2.0
PRODID:-//Plone.org//NONSGML plone.app.event//EN
X-WR-TIMEZONE:America/Sao_Paulo
BEGIN:VEVENT
SUMMARY:Reunião CEPE em [ Outros espacos]
DTSTART;TZID=America/Sao_Paulo;VALUE=DATE-TIME:20231116T140000
DTEND;TZID=America/Sao_Paulo;VALUE=DATE-TIME:20231116T180000
DTSTAMP;VALUE=DATE-TIME:20260420T132048Z
UID:f6417ebc96604504b8e59c3b788f9f98@150.164.76.86:8080
CREATED;VALUE=DATE-TIME:20231113T120326Z
DESCRIPTION:<p>Operar equipamento multimídia e gravar reunião</p>
LAST-MODIFIED;VALUE=DATE-TIME:20231113T120346Z
URL:http://150.164.76.86:8080/cac/agenda/2930795234262157349
END:VEVENT
BEGIN:VTIMEZONE
TZID:America/Sao_Paulo
X-LIC-LOCATION:America/Sao_Paulo
BEGIN:DAYLIGHT
DTSTART;VALUE=DATE-TIME:20231015T010000
TZNAME:BRST
TZOFFSETFROM:-0300
TZOFFSETTO:-0200
END:DAYLIGHT
END:VTIMEZONE
END:VCALENDAR
