BEGIN:VCALENDAR
VERSION:2.0
PRODID:-//Plone.org//NONSGML plone.app.event//EN
X-WR-TIMEZONE:America/Sao_Paulo
BEGIN:VEVENT
SUMMARY:Feira de Kilombu em [ Entorno da Praca de Servicos]
DTSTART;TZID=America/Sao_Paulo;VALUE=DATE-TIME:20241129T090000
DTEND;TZID=America/Sao_Paulo;VALUE=DATE-TIME:20241129T173000
DTSTAMP;VALUE=DATE-TIME:20260419T175755Z
UID:f6f5004ac0f847b191ada89d58552c28@150.164.76.86:8080
CREATED;VALUE=DATE-TIME:20241126T170354Z
DESCRIPTION:A Feira de Kilombu será uma atividade vinculada as desenvolvi
 das no Novembro Negro da UFMG e \ntem como objetivo reunir as lideranças 
 quilombolas\, bem estudantes que possuam a arte como\n uma forma de manife
 stação para poderem vender\, expor\, apresentar as produções que há n
 as \ncomunidades quilombolas. A feira também contará com a presença de 
 apresentações culturais \ncom intuito de fomentar a arte e a cultura qui
 lombola. A programação do evento também será\n divulgada nas páginas 
 oficiais do Novembro Negro da UFMG\, justamente para garantir que o espaç
 o \nseja enriquecedor. A proposta é feita pelos estudantes quilombolas da
  universidade\, por meio do \nColetivo de Estudantes Kilombolas da UFMG (C
 OLEKi-UFMG)\, \ncomo uma proposta de atividades culturais e que se correla
 ciona com o tema do ano
LAST-MODIFIED;VALUE=DATE-TIME:20241126T173145Z
URL:http://150.164.76.86:8080/cac/agenda/2926398661735862786
END:VEVENT
BEGIN:VTIMEZONE
TZID:America/Sao_Paulo
X-LIC-LOCATION:America/Sao_Paulo
BEGIN:DAYLIGHT
DTSTART;VALUE=DATE-TIME:20241020T010000
TZNAME:BRST
TZOFFSETFROM:-0300
TZOFFSETTO:-0200
END:DAYLIGHT
END:VTIMEZONE
END:VCALENDAR
