BEGIN:VCALENDAR
VERSION:2.0
PRODID:-//Plone.org//NONSGML plone.app.event//EN
X-WR-TIMEZONE:America/Sao_Paulo
BEGIN:VEVENT
SUMMARY:Reunião do Conselho de Diretores em [ Outros espacos]
DTSTART;TZID=America/Sao_Paulo;VALUE=DATE-TIME:20250403T140000
DTEND;TZID=America/Sao_Paulo;VALUE=DATE-TIME:20250403T180000
DTSTAMP;VALUE=DATE-TIME:20260419T091427Z
UID:af61f3ad14114dda8cdcd534d051e1b5@150.164.76.86:8080
CREATED;VALUE=DATE-TIME:20250331T105433Z
DESCRIPTION:<p><span> Operar o equipamento multimídia da Sala das Sessõ
 es e para gravar em áudio a reunião do </span><b>Conselho de Diretores<
 /b></p>
LAST-MODIFIED;VALUE=DATE-TIME:20250331T105631Z
URL:http://150.164.76.86:8080/cac/agenda/2921755963296109591
END:VEVENT
BEGIN:VTIMEZONE
TZID:America/Sao_Paulo
X-LIC-LOCATION:America/Sao_Paulo
BEGIN:STANDARD
DTSTART;VALUE=DATE-TIME:20250215T230000
TZNAME:BRT
TZOFFSETFROM:-0200
TZOFFSETTO:-0300
END:STANDARD
END:VTIMEZONE
END:VCALENDAR
