BEGIN:VCALENDAR
VERSION:2.0
PRODID:-//Plone.org//NONSGML plone.app.event//EN
X-WR-TIMEZONE:America/Sao_Paulo
BEGIN:VEVENT
SUMMARY:Encontro Cogecom em [ Outros espacos]
DTSTART;TZID=America/Sao_Paulo;VALUE=DATE-TIME:20220413T080000
DTEND;TZID=America/Sao_Paulo;VALUE=DATE-TIME:20220413T160000
DTSTAMP;VALUE=DATE-TIME:20260422T094121Z
UID:d510da94e8be4e56a875f9cb7ef2f7d2@150.164.76.86:8080
CREATED;VALUE=DATE-TIME:20220325T134907Z
DESCRIPTION:<p>Solicitação do CEDECOM</p>
LAST-MODIFIED;VALUE=DATE-TIME:20220411T122824Z
URL:http://150.164.76.86:8080/cac/agenda/292118334755459565
END:VEVENT
BEGIN:VTIMEZONE
TZID:America/Sao_Paulo
X-LIC-LOCATION:America/Sao_Paulo
BEGIN:STANDARD
DTSTART;VALUE=DATE-TIME:20220219T230000
TZNAME:BRT
TZOFFSETFROM:-0200
TZOFFSETTO:-0300
END:STANDARD
END:VTIMEZONE
END:VCALENDAR
