BEGIN:VCALENDAR
VERSION:2.0
PRODID:-//Plone.org//NONSGML plone.app.event//EN
X-WR-TIMEZONE:America/Sao_Paulo
BEGIN:VEVENT
SUMMARY:FEIRA DE ARTESANATO MERCADO DAS PULGAS em [ Em torno da Praca de S
 ervicos]
DTSTART;TZID=America/Sao_Paulo;VALUE=DATE-TIME:20200608T080000
DTEND;TZID=America/Sao_Paulo;VALUE=DATE-TIME:20200610T170000
DTSTAMP;VALUE=DATE-TIME:20260424T221740Z
UID:f7b656f918c04bc08377e3f09593eac3@150.164.76.86:8080
CREATED;VALUE=DATE-TIME:20200210T133155Z
DESCRIPTION:FEIRA DE ARTESANATO MARCADO DAS PULGAS. \nPRECISAMOS APENAS DE
  90 PAINEIS.
LAST-MODIFIED;VALUE=DATE-TIME:20200213T142739Z
URL:http://150.164.76.86:8080/cac/agenda/2912290093264774261
END:VEVENT
BEGIN:VTIMEZONE
TZID:America/Sao_Paulo
X-LIC-LOCATION:America/Sao_Paulo
BEGIN:STANDARD
DTSTART;VALUE=DATE-TIME:20200215T230000
TZNAME:BRT
TZOFFSETFROM:-0200
TZOFFSETTO:-0300
END:STANDARD
END:VTIMEZONE
END:VCALENDAR
