BEGIN:VCALENDAR
VERSION:2.0
PRODID:-//Plone.org//NONSGML plone.app.event//EN
X-WR-TIMEZONE:America/Sao_Paulo
BEGIN:VEVENT
SUMMARY:CAPACIDADE EXCEDIDA em [ Entorno da Praca de Servicos Auditorio No
 bre do CAD 1 Auditorio 1A do CAD 1 Auditorio 2A do CAD 1 Auditorio A104 do
  Cad 2 Auditório B302 do CAD 3 Auditório B101/102 do CAD 3 Auditório B3
 01 do CAD 3]
DTSTART;TZID=America/Sao_Paulo;VALUE=DATE-TIME:20200708T130000
DTEND;TZID=America/Sao_Paulo;VALUE=DATE-TIME:20200708T170000
DTSTAMP;VALUE=DATE-TIME:20260424T210438Z
UID:92094e84c3934f97b1377b90346471fc@150.164.76.86:8080
CREATED;VALUE=DATE-TIME:20200207T160258Z
DESCRIPTION:<p>.</p>
LAST-MODIFIED;VALUE=DATE-TIME:20230111T201041Z
URL:http://150.164.76.86:8080/cac/agenda/290839008866591298
END:VEVENT
BEGIN:VTIMEZONE
TZID:America/Sao_Paulo
X-LIC-LOCATION:America/Sao_Paulo
BEGIN:STANDARD
DTSTART;VALUE=DATE-TIME:20200215T230000
TZNAME:BRT
TZOFFSETFROM:-0200
TZOFFSETTO:-0300
END:STANDARD
END:VTIMEZONE
END:VCALENDAR
