BEGIN:VCALENDAR
VERSION:2.0
PRODID:-//Plone.org//NONSGML plone.app.event//EN
X-WR-TIMEZONE:America/Sao_Paulo
BEGIN:VEVENT
SUMMARY:SIM 2020 - Congress on Structural Integrity and Maintenence em [ A
 uditório B302 do CAD 3 Auditório B301 do CAD 3]
DTSTART;TZID=America/Sao_Paulo;VALUE=DATE-TIME:20201123T080000
DTEND;TZID=America/Sao_Paulo;VALUE=DATE-TIME:20201124T190000
DTSTAMP;VALUE=DATE-TIME:20260424T160935Z
UID:1d4356e0d6ed49ebac558d3ce5efd82e@150.164.76.86:8080
CREATED;VALUE=DATE-TIME:20200306T004654Z
DESCRIPTION:<p>Trata-se do SIM 2020 - Congress on Structural Integrity and
  Maintenence\, e sua primeira edição será realizada na UFMG. O evento i
 nternacional tem expectativa de receber 150 conferencistas\, sendo que des
 tes\, 50 a 60 são alunos dos cursos de Engenharia Civil\, Mecànica e Aer
 oespacial da UFMG. Pesquisadores da Noruega\, França\, Portugal\, Polôni
 a\, Rússia\, China\, Estados Unidos\, Índia\, Chile e Argentina já mani
 festaram interesse em comparecer ao evento. O Congresso está sendo organi
 zado por Professores do Dpto de Engenharia de Estruturas da UFMG e do Dpto
  de Engenharia Civil da Universidade do Porto\, e sua próxima edição ac
 ontecerá em 2021 na cidade do Porto/PT. Têm como principais áreas de co
 ncentração Integridade Estrutural\, Projeto e Manutenção de Estruturas
 \, assuntos atualmente muito explorados pela comunidade científica na bus
 ca de um desenvolvimento sustentável. Portanto\, vê-se nessa proposta um
 a possibilidade de trazer para o ambiente da UFMG um evento de alto nível
  científico e qualificação internacional. Inscrições com valores bast
 ante reduzidas serão ofertadas aos alunos UFMG\, além de 20 cotas de ise
 nção para alunos de qualquer universidade do mundo (os alunos envolvidos
  na organização terão isenção total do evento). Para o desenvolviment
 o do congresso\, serão necessários 2 auditórios com capacidade de 150 p
 essoas cada (se possível os dois auditórios no 3 andar seria perfeito)\,
  equipados com projetor e sistema de som. Os coffee-breaks e almoços deve
 rão ser oferecidos no local do evento por questão de logística e segura
 nça dos participantes. Portanto\, solicita-se\, além dos auditórios\, a
  cantina do Bloco A (uma empresa especializada será contratada) e o Hall 
 que fica em frente a mesma (para montagem de posters do congresso). Abaixo
  a descrição em Inglês do evento. The International Congress on Structu
 ral Integrity and Maintenance (SIM 2020) is organised by Federal Universit
 y of Minas Gerais (UFMG\, Brazil)\, which will take place in the Faculty o
 f Engineering of the Federal University of Minas Gerais\, in the City of B
 elo Horizonte\, located at southeast region of Brazil\, in 23 and 24 Novem
 ber 2020. This conference aims to bring together academic researchers and 
 scholars\, as well as engineers from the construction sector\, to exchange
  and share their innovative research results and practical experiences on 
 all aspects of Structural Integrity\, Design and Maintenance. The particip
 ants will have the opportunity to review recent advances and share the lat
 est developments in structural integrity\, fatigue\, fracture\, damage mec
 hanics\, structural design\, advanced construction materials\, design of a
 ll type of civil engineering structures\, BIM\, artificial intelligence ap
 plied to design\, safety and risk analysis\, structural retrofit and maint
 enance\, probabilistic assessment of structures\, management and life-cycl
 e performance and construction sector management. This event also covers t
 opics related to computation and numerical modelling of a wide range of in
 frastructures\, such as\, engineering technical systems\, transportation s
 ystems\, bridges\, buildings\, dams\, railways\, underground constructions
 \, wind and transmission towers\, offshore platforms\, pipelines\, naval v
 essels and oceanic structures\, among others. It is expected contributions
  from engineers\, metallurgists\, material scientists\, among others\, all
 owing a very multidisciplinary discussion. The cross links between theory 
 and practice that are expected to be shaped during the event will allow th
 e promotion of a better understanding of the structural behaviour\, as wel
 l as the enhancement of the confidence in structural engineering practice.
 </p>
LAST-MODIFIED;VALUE=DATE-TIME:20200311T135459Z
URL:http://150.164.76.86:8080/cac/agenda/2900507838885646541
END:VEVENT
BEGIN:VTIMEZONE
TZID:America/Sao_Paulo
X-LIC-LOCATION:America/Sao_Paulo
BEGIN:DAYLIGHT
DTSTART;VALUE=DATE-TIME:20201018T010000
TZNAME:BRST
TZOFFSETFROM:-0300
TZOFFSETTO:-0200
END:DAYLIGHT
END:VTIMEZONE
END:VCALENDAR
