BEGIN:VCALENDAR
VERSION:2.0
PRODID:-//Plone.org//NONSGML plone.app.event//EN
X-WR-TIMEZONE:America/Sao_Paulo
BEGIN:VEVENT
SUMMARY:24ª Jornada de Extensão da UFMG - REUNIÃO COM COORDENADORES DE 
 EXTENSÃO em [ Auditorio da Reitoria]
DTSTART;TZID=America/Sao_Paulo;VALUE=DATE-TIME:20250505T130000
DTEND;TZID=America/Sao_Paulo;VALUE=DATE-TIME:20250505T180000
DTSTAMP;VALUE=DATE-TIME:20260421T050235Z
UID:ce4b41b2663c43819af7120e1f8c669a@150.164.76.86:8080
CREATED;VALUE=DATE-TIME:20250409T152840Z
DESCRIPTION:<p>Reunião com coordenadores de extensão</p>
LAST-MODIFIED;VALUE=DATE-TIME:20250409T152856Z
URL:http://150.164.76.86:8080/cac/agenda/2893927029019290025
END:VEVENT
BEGIN:VTIMEZONE
TZID:America/Sao_Paulo
X-LIC-LOCATION:America/Sao_Paulo
BEGIN:STANDARD
DTSTART;VALUE=DATE-TIME:20250215T230000
TZNAME:BRT
TZOFFSETFROM:-0200
TZOFFSETTO:-0300
END:STANDARD
END:VTIMEZONE
END:VCALENDAR
