BEGIN:VCALENDAR
VERSION:2.0
PRODID:-//Plone.org//NONSGML plone.app.event//EN
X-WR-TIMEZONE:America/Sao_Paulo
BEGIN:VEVENT
SUMMARY:TROCA DR GESTÃO EMAS JR em [ Auditorio A104 do Cad 2]
DTSTART;TZID=America/Sao_Paulo;VALUE=DATE-TIME:20230623T180000
DTEND;TZID=America/Sao_Paulo;VALUE=DATE-TIME:20230623T213000
DTSTAMP;VALUE=DATE-TIME:20260421T121935Z
UID:5c66f4594a8e4fe9a2dcec0e11113681@150.164.76.86:8080
CREATED;VALUE=DATE-TIME:20230526T195625Z
DESCRIPTION:<p>Apenas precisaremos da Iluminação normal do local Microfo
 ne\, se possível dois Projetor e cabos para conectar o notebook (o notebo
 ok nós mesmos iremos levar). OBS: evento ocorrerá no modo aula.</p>
LAST-MODIFIED;VALUE=DATE-TIME:20230531T181410Z
URL:http://150.164.76.86:8080/cac/agenda/2893300182475476818
END:VEVENT
BEGIN:VTIMEZONE
TZID:America/Sao_Paulo
X-LIC-LOCATION:America/Sao_Paulo
BEGIN:STANDARD
DTSTART;VALUE=DATE-TIME:20230225T230000
TZNAME:BRT
TZOFFSETFROM:-0200
TZOFFSETTO:-0300
END:STANDARD
END:VTIMEZONE
END:VCALENDAR
