BEGIN:VCALENDAR
VERSION:2.0
PRODID:-//Plone.org//NONSGML plone.app.event//EN
X-WR-TIMEZONE:America/Sao_Paulo
BEGIN:VEVENT
SUMMARY:Transmissão apuração das consultas centralizadas 2025 em [ Outr
 os espacos]
DTSTART;TZID=America/Sao_Paulo;VALUE=DATE-TIME:20250509T170000
DTEND;TZID=America/Sao_Paulo;VALUE=DATE-TIME:20250509T180000
DTSTAMP;VALUE=DATE-TIME:20260419T090922Z
UID:e73529c058e6401e86047f1e59a9c4c6@150.164.76.86:8080
CREATED;VALUE=DATE-TIME:20241219T143312Z
DESCRIPTION:<p>Transmissão da apuração das consultas centralizadas 2025
 . Apuração será realizada pelo Sistema de Consultas on line. </p>
LAST-MODIFIED;VALUE=DATE-TIME:20241219T143324Z
URL:http://150.164.76.86:8080/cac/agenda/2876651493134740404
END:VEVENT
BEGIN:VTIMEZONE
TZID:America/Sao_Paulo
X-LIC-LOCATION:America/Sao_Paulo
BEGIN:STANDARD
DTSTART;VALUE=DATE-TIME:20250215T230000
TZNAME:BRT
TZOFFSETFROM:-0200
TZOFFSETTO:-0300
END:STANDARD
END:VTIMEZONE
END:VCALENDAR
