BEGIN:VCALENDAR
VERSION:2.0
PRODID:-//Plone.org//NONSGML plone.app.event//EN
X-WR-TIMEZONE:America/Sao_Paulo
BEGIN:VEVENT
SUMMARY:ASSEMBLEIA DO SINDIFES em [ Auditorio A102 do Cad 2]
DTSTART;TZID=America/Sao_Paulo;VALUE=DATE-TIME:20240502T080000
DTEND;TZID=America/Sao_Paulo;VALUE=DATE-TIME:20240503T170000
DTSTAMP;VALUE=DATE-TIME:20260420T014327Z
UID:8d2af8d6d9c84972b74219e7e26d4b05@150.164.76.86:8080
CREATED;VALUE=DATE-TIME:20240429T135959Z
DESCRIPTION:<p>ASSEMBLEIA DO SINDIFES</p>
LAST-MODIFIED;VALUE=DATE-TIME:20240429T142122Z
URL:http://150.164.76.86:8080/cac/agenda/2873715895226292661
END:VEVENT
BEGIN:VTIMEZONE
TZID:America/Sao_Paulo
X-LIC-LOCATION:America/Sao_Paulo
BEGIN:STANDARD
DTSTART;VALUE=DATE-TIME:20240217T230000
TZNAME:BRT
TZOFFSETFROM:-0200
TZOFFSETTO:-0300
END:STANDARD
END:VTIMEZONE
END:VCALENDAR
