BEGIN:VCALENDAR
VERSION:2.0
PRODID:-//Plone.org//NONSGML plone.app.event//EN
X-WR-TIMEZONE:America/Sao_Paulo
BEGIN:VEVENT
SUMMARY:Aula Inaugural do Novo Outlab em [ Auditório B106 do CAD3]
DTSTART;TZID=America/Sao_Paulo;VALUE=DATE-TIME:20230818T140000
DTEND;TZID=America/Sao_Paulo;VALUE=DATE-TIME:20230818T160000
DTSTAMP;VALUE=DATE-TIME:20260421T091315Z
UID:79f1a14d49884373981d5edd1c9999e9@150.164.76.86:8080
CREATED;VALUE=DATE-TIME:20230801T191607Z
DESCRIPTION:Aula Inaugural do Novo Outlab - Público: aproximadamente 120 
 pessoas\; Evento com transmissão ao vivo (Youtube PRPq)
LAST-MODIFIED;VALUE=DATE-TIME:20230801T192651Z
URL:http://150.164.76.86:8080/cac/agenda/287160557621986595
END:VEVENT
BEGIN:VTIMEZONE
TZID:America/Sao_Paulo
X-LIC-LOCATION:America/Sao_Paulo
BEGIN:STANDARD
DTSTART;VALUE=DATE-TIME:20230225T230000
TZNAME:BRT
TZOFFSETFROM:-0200
TZOFFSETTO:-0300
END:STANDARD
END:VTIMEZONE
END:VCALENDAR
