BEGIN:VCALENDAR
VERSION:2.0
PRODID:-//Plone.org//NONSGML plone.app.event//EN
X-WR-TIMEZONE:America/Sao_Paulo
BEGIN:VEVENT
SUMMARY:XVI Semana da Geologia em [ Auditório B106 do CAD3 Outros espacos
  Auditório B101/102 do CAD 3]
DTSTART;TZID=America/Sao_Paulo;VALUE=DATE-TIME:20231110T080000
DTEND;TZID=America/Sao_Paulo;VALUE=DATE-TIME:20231110T200000
DTSTAMP;VALUE=DATE-TIME:20260420T131629Z
UID:e8f19604630641faae855fa8155c8445@150.164.76.86:8080
CREATED;VALUE=DATE-TIME:20230925T132348Z
DESCRIPTION:<p>A Semana da Geologia é um evento organizado pelos alunos d
 o curso de Geologia da Universidade Federal de Minas Gerais (UFMG) e membr
 os da empresa júnior Minas Jr - Consultoria Mineral. Uma tradição anual
 \, o projeto segue em sua décima sexta edição\, com o tema "50 anos do 
 curso de Geologia da UFMG: passado\, presente e perspectivas para o futuro
 "\, e objetiva difundir conhecimentos acerca dos diversos segmentos dessa 
 área por meio de palestras\, minicursos e campo.</p>
LAST-MODIFIED;VALUE=DATE-TIME:20231109T153624Z
URL:http://150.164.76.86:8080/cac/agenda/2862760736969657120
END:VEVENT
BEGIN:VTIMEZONE
TZID:America/Sao_Paulo
X-LIC-LOCATION:America/Sao_Paulo
BEGIN:DAYLIGHT
DTSTART;VALUE=DATE-TIME:20231015T010000
TZNAME:BRST
TZOFFSETFROM:-0300
TZOFFSETTO:-0200
END:DAYLIGHT
END:VTIMEZONE
END:VCALENDAR
