BEGIN:VCALENDAR
VERSION:2.0
PRODID:-//Plone.org//NONSGML plone.app.event//EN
X-WR-TIMEZONE:America/Sao_Paulo
BEGIN:VEVENT
SUMMARY:Feira de Artesanato em [ Entorno da Praca de Servicos]
DTSTART;TZID=America/Sao_Paulo;VALUE=DATE-TIME:20231120T080000
DTEND;TZID=America/Sao_Paulo;VALUE=DATE-TIME:20231201T170000
DTSTAMP;VALUE=DATE-TIME:20260420T102325Z
UID:dd73cdcd28384f04bf0ea51d372bce6b@150.164.76.86:8080
CREATED;VALUE=DATE-TIME:20221212T135627Z
DESCRIPTION:Empréstimo de 70 painéis e limpeza do local.
LAST-MODIFIED;VALUE=DATE-TIME:20221215T172655Z
URL:http://150.164.76.86:8080/cac/agenda/2861728600510305710
END:VEVENT
BEGIN:VTIMEZONE
TZID:America/Sao_Paulo
X-LIC-LOCATION:America/Sao_Paulo
BEGIN:DAYLIGHT
DTSTART;VALUE=DATE-TIME:20231015T010000
TZNAME:BRST
TZOFFSETFROM:-0300
TZOFFSETTO:-0200
END:DAYLIGHT
END:VTIMEZONE
END:VCALENDAR
