BEGIN:VCALENDAR
VERSION:2.0
PRODID:-//Plone.org//NONSGML plone.app.event//EN
X-WR-TIMEZONE:America/Sao_Paulo
BEGIN:VEVENT
SUMMARY:Abril Indígena - 2025 - Mesa de Abertura em [ Auditorio da Reitor
 ia]
DTSTART;TZID=America/Sao_Paulo;VALUE=DATE-TIME:20250428T180000
DTEND;TZID=America/Sao_Paulo;VALUE=DATE-TIME:20250428T220000
DTSTAMP;VALUE=DATE-TIME:20260419T103331Z
UID:d3cb4b7d1f0748cea05504a298658fc6@150.164.76.86:8080
CREATED;VALUE=DATE-TIME:20250321T153241Z
DESCRIPTION:<p>O Evento será a realização da Mesa de Abertura do Abril 
 Indígena 2025. Contará com a presença de autoridades indígenas como Ai
 lton Krenak ou Célia Xacriabá. Necessidade de 2 Microfones. Previsão de
  Público de 160 a 180 pessoas</p>
LAST-MODIFIED;VALUE=DATE-TIME:20250417T163530Z
URL:http://150.164.76.86:8080/cac/agenda/2850049694463380389
END:VEVENT
BEGIN:VTIMEZONE
TZID:America/Sao_Paulo
X-LIC-LOCATION:America/Sao_Paulo
BEGIN:STANDARD
DTSTART;VALUE=DATE-TIME:20250215T230000
TZNAME:BRT
TZOFFSETFROM:-0200
TZOFFSETTO:-0300
END:STANDARD
END:VTIMEZONE
END:VCALENDAR
