BEGIN:VCALENDAR
VERSION:2.0
PRODID:-//Plone.org//NONSGML plone.app.event//EN
X-WR-TIMEZONE:America/Sao_Paulo
BEGIN:VEVENT
SUMMARY:FEIRA DA UFMG - Agroecologia e Economia Popular Solidária em [ En
 torno da Praca de Servicos]
DTSTART;TZID=America/Sao_Paulo;VALUE=DATE-TIME:20240911T070000
DTEND;TZID=America/Sao_Paulo;VALUE=DATE-TIME:20240911T080000
DTSTAMP;VALUE=DATE-TIME:20260419T205545Z
UID:4114e1c871004851932ecdeca6794f8e@150.164.76.86:8080
CREATED;VALUE=DATE-TIME:20240205T185958Z
DESCRIPTION:<p>Não usaremos nenhum equipamento ou serviço adicional. A p
 rogramação ainda está sendo elaborada.</p>
LAST-MODIFIED;VALUE=DATE-TIME:20240705T152124Z
URL:http://150.164.76.86:8080/cac/agenda/2848592896079203512
END:VEVENT
BEGIN:VTIMEZONE
TZID:America/Sao_Paulo
X-LIC-LOCATION:America/Sao_Paulo
BEGIN:STANDARD
DTSTART;VALUE=DATE-TIME:20240217T230000
TZNAME:BRT
TZOFFSETFROM:-0200
TZOFFSETTO:-0300
END:STANDARD
END:VTIMEZONE
END:VCALENDAR
