BEGIN:VCALENDAR
VERSION:2.0
PRODID:-//Plone.org//NONSGML plone.app.event//EN
X-WR-TIMEZONE:America/Sao_Paulo
BEGIN:VEVENT
SUMMARY:Jornada Empreendedorismo Inova UFMG em [ Auditorio A102 do Cad 2]
DTSTART;TZID=America/Sao_Paulo;VALUE=DATE-TIME:20240401T130000
DTEND;TZID=America/Sao_Paulo;VALUE=DATE-TIME:20240401T170000
DTSTAMP;VALUE=DATE-TIME:20260420T031129Z
UID:f5a02071827f4b0dbbcfde28cce5cb18@150.164.76.86:8080
CREATED;VALUE=DATE-TIME:20240206T195718Z
DESCRIPTION:Evento de Empreendedorismo solicitado pelo vice-reitor para ap
 resentar a comunidade os projetos aprovados para a incubação de empresas
  pela InovaUFMG
LAST-MODIFIED;VALUE=DATE-TIME:20240327T114100Z
URL:http://150.164.76.86:8080/cac/agenda/2848241587058252020
END:VEVENT
BEGIN:VTIMEZONE
TZID:America/Sao_Paulo
X-LIC-LOCATION:America/Sao_Paulo
BEGIN:STANDARD
DTSTART;VALUE=DATE-TIME:20240217T230000
TZNAME:BRT
TZOFFSETFROM:-0200
TZOFFSETTO:-0300
END:STANDARD
END:VTIMEZONE
END:VCALENDAR
