BEGIN:VCALENDAR
VERSION:2.0
PRODID:-//Plone.org//NONSGML plone.app.event//EN
X-WR-TIMEZONE:America/Sao_Paulo
BEGIN:VEVENT
SUMMARY:Marcha pela Educação e Território Indígena UFMG. em [ Outros e
 spacos]
DTSTART;TZID=America/Sao_Paulo;VALUE=DATE-TIME:20220419T110000
DTEND;TZID=America/Sao_Paulo;VALUE=DATE-TIME:20220419T140000
DTSTAMP;VALUE=DATE-TIME:20260422T094033Z
UID:7c2d7b7ea9094af18cf19b951f21b347@150.164.76.86:8080
CREATED;VALUE=DATE-TIME:20220413T140635Z
DESCRIPTION:<p>Prezados/as\, Neste mês de abril\, acontece na UFMG o Abri
 l Indígena 2022\, promovido pelo Programa de Educação Tutorial (PET) In
 dígena da UFMG\, em parceria com esta Pró-reitoria de Assuntos Estudanti
 s – PRAE/UFMG. O evento conta com mesas-redondas\, conversas e apresenta
 ção de vídeos\, entre outras atividades\, que abordam a realidade de es
 tudantes indígenas na Universidade\, o acesso à saúde e ao território.
  Tudo com vistas à acolher o estudante indígena e estabelecer o pertenci
 mento a este território-Universidade. Entre as atividade da programação
 \, está previsto para o dia 19 de abril (data que marca a conscientizaç
 ão a respeito dos direitos dos povos indígenas) a marcha pela Educação
 \, Território Indígena UFMG. Para realização do evento será necessár
 io: - Reserva do espaço da Arena da Praça de serviços\; - Caixa de som\
 ; - Microfone\; - Técnico para operacionalizar o sistema para exibição 
 de música e outros.</p>
LAST-MODIFIED;VALUE=DATE-TIME:20220413T185237Z
URL:http://150.164.76.86:8080/cac/agenda/2848210439928074079
END:VEVENT
BEGIN:VTIMEZONE
TZID:America/Sao_Paulo
X-LIC-LOCATION:America/Sao_Paulo
BEGIN:STANDARD
DTSTART;VALUE=DATE-TIME:20220219T230000
TZNAME:BRT
TZOFFSETFROM:-0200
TZOFFSETTO:-0300
END:STANDARD
END:VTIMEZONE
END:VCALENDAR
