BEGIN:VCALENDAR
VERSION:2.0
PRODID:-//Plone.org//NONSGML plone.app.event//EN
X-WR-TIMEZONE:America/Sao_Paulo
BEGIN:VEVENT
SUMMARY:Seminário  aberto à comunidade com Prof. Nóvoa e Profa. Carmen 
 (UFRJ)  em [ Auditorio da Reitoria Outros espacos]
DTSTART;TZID=America/Sao_Paulo;VALUE=DATE-TIME:20250128T140000
DTEND;TZID=America/Sao_Paulo;VALUE=DATE-TIME:20250128T180000
DTSTAMP;VALUE=DATE-TIME:20260419T144943Z
UID:5c9a25ad5bfc4226833ca065c37c090f@150.164.76.86:8080
CREATED;VALUE=DATE-TIME:20250115T194052Z
DESCRIPTION:<p><span> Seminário  aberto à comunidade com Prof. Nóvoa 
 e Profa. Carmen (UFRJ)</span><span> c/ - Transmissão e Tradução em Lib
 ras</span></p>\n<p><span>Contato para detalhes: Profa. Maria Flores - PROG
 RAD</span></p>
LAST-MODIFIED;VALUE=DATE-TIME:20250117T174034Z
URL:http://150.164.76.86:8080/cac/agenda/283890782565725862
END:VEVENT
BEGIN:VTIMEZONE
TZID:America/Sao_Paulo
X-LIC-LOCATION:America/Sao_Paulo
BEGIN:DAYLIGHT
DTSTART;VALUE=DATE-TIME:20241020T010000
TZNAME:BRST
TZOFFSETFROM:-0300
TZOFFSETTO:-0200
END:DAYLIGHT
END:VTIMEZONE
END:VCALENDAR
