BEGIN:VCALENDAR
VERSION:2.0
PRODID:-//Plone.org//NONSGML plone.app.event//EN
X-WR-TIMEZONE:America/Sao_Paulo
BEGIN:VEVENT
SUMMARY:Troca de Gestão da Mult Jr em [ Auditório B107 do CAD3 Outros es
 pacos]
DTSTART;TZID=America/Sao_Paulo;VALUE=DATE-TIME:20241213T140000
DTEND;TZID=America/Sao_Paulo;VALUE=DATE-TIME:20241213T220000
DTSTAMP;VALUE=DATE-TIME:20260419T163531Z
UID:01b5027046944f9ea2ffcbb0474d5cf9@150.164.76.86:8080
CREATED;VALUE=DATE-TIME:20241121T105032Z
DESCRIPTION:O evento precisa de uma equipamento de som( microfone e deriva
 dos)\, projeção de imagem. Será um encerramento de Gestão da empresa j
 únior Mult Jr. Teremos um momento de fotografias dos membros e o evento e
 m si. Além disso\, teremos um momento de lanche antes da Troca.
LAST-MODIFIED;VALUE=DATE-TIME:20241122T152045Z
URL:http://150.164.76.86:8080/cac/agenda/2821553509940339813
END:VEVENT
BEGIN:VTIMEZONE
TZID:America/Sao_Paulo
X-LIC-LOCATION:America/Sao_Paulo
BEGIN:DAYLIGHT
DTSTART;VALUE=DATE-TIME:20241020T010000
TZNAME:BRST
TZOFFSETFROM:-0300
TZOFFSETTO:-0200
END:DAYLIGHT
END:VTIMEZONE
END:VCALENDAR
