BEGIN:VCALENDAR
VERSION:2.0
PRODID:-//Plone.org//NONSGML plone.app.event//EN
X-WR-TIMEZONE:America/Sao_Paulo
BEGIN:VEVENT
SUMMARY:CURSO DE FÉRIAS DE ESTUDOS BRASILEIROS em [ Outros espacos]
DTSTART;TZID=America/Sao_Paulo;VALUE=DATE-TIME:20240715T060000
DTEND;TZID=America/Sao_Paulo;VALUE=DATE-TIME:20240726T210000
DTSTAMP;VALUE=DATE-TIME:20260419T234926Z
UID:0406ab225ed34f62a6442300fe9ee40c@150.164.76.86:8080
CREATED;VALUE=DATE-TIME:20231106T145354Z
DESCRIPTION:<p>CURSO DE FÉRIAS DE ESTUDOS BRASILEIROS - EVENTO DO CALEND
 ÁRIO ACADÊMICO</p>
LAST-MODIFIED;VALUE=DATE-TIME:20231106T145545Z
URL:http://150.164.76.86:8080/cac/agenda/2816474324537076979
END:VEVENT
BEGIN:VTIMEZONE
TZID:America/Sao_Paulo
X-LIC-LOCATION:America/Sao_Paulo
BEGIN:STANDARD
DTSTART;VALUE=DATE-TIME:20240217T230000
TZNAME:BRT
TZOFFSETFROM:-0200
TZOFFSETTO:-0300
END:STANDARD
END:VTIMEZONE
END:VCALENDAR
