BEGIN:VCALENDAR
VERSION:2.0
PRODID:-//Plone.org//NONSGML plone.app.event//EN
X-WR-TIMEZONE:America/Sao_Paulo
BEGIN:VEVENT
SUMMARY:Solenidade de posse da diretoria do Instituto de Ciências Exatas 
 em [ Outros espacos]
DTSTART;TZID=America/Sao_Paulo;VALUE=DATE-TIME:20230620T190000
DTEND;TZID=America/Sao_Paulo;VALUE=DATE-TIME:20230620T210000
DTSTAMP;VALUE=DATE-TIME:20260421T132928Z
UID:3cb63130c55341fcaa54988cdf8a7513@150.164.76.86:8080
CREATED;VALUE=DATE-TIME:20230607T124823Z
DESCRIPTION:<p>Solenidade de posse da diretoria do Instituto de Ciências 
 Exatas</p>
LAST-MODIFIED;VALUE=DATE-TIME:20230607T125036Z
URL:http://150.164.76.86:8080/cac/agenda/2796721157444596000
END:VEVENT
BEGIN:VTIMEZONE
TZID:America/Sao_Paulo
X-LIC-LOCATION:America/Sao_Paulo
BEGIN:STANDARD
DTSTART;VALUE=DATE-TIME:20230225T230000
TZNAME:BRT
TZOFFSETFROM:-0200
TZOFFSETTO:-0300
END:STANDARD
END:VTIMEZONE
END:VCALENDAR
