BEGIN:VCALENDAR
VERSION:2.0
PRODID:-//Plone.org//NONSGML plone.app.event//EN
X-WR-TIMEZONE:America/Sao_Paulo
BEGIN:VEVENT
SUMMARY:Semana de Orientação do Estudante Internacional - SOEI em [ Aren
 a da praça de serviços]
DTSTART;TZID=America/Sao_Paulo;VALUE=DATE-TIME:20220819T080000
DTEND;TZID=America/Sao_Paulo;VALUE=DATE-TIME:20220819T120000
DTSTAMP;VALUE=DATE-TIME:20260422T024805Z
UID:161038e989ed437a800b70b93eff3442@150.164.76.86:8080
CREATED;VALUE=DATE-TIME:20220607T113018Z
DESCRIPTION:<p>Solicitamos\, gentilmente\, a reserva do BOSQUE DA MÚSICA 
 para a realização do encontro dos estudantes internacionais com os seus 
 padrinhos e madrinhas. A atividade faz parte da programação da Semana de
  Orientação do Estudante Internacional da UFMG - SOEI. DATA: 19 DE AGOST
 O DE 2022 – DE 8H ÁS 12H.</p>
LAST-MODIFIED;VALUE=DATE-TIME:20220608T184034Z
URL:http://150.164.76.86:8080/cac/agenda/2790859894660090762
END:VEVENT
BEGIN:VTIMEZONE
TZID:America/Sao_Paulo
X-LIC-LOCATION:America/Sao_Paulo
BEGIN:STANDARD
DTSTART;VALUE=DATE-TIME:20220219T230000
TZNAME:BRT
TZOFFSETFROM:-0200
TZOFFSETTO:-0300
END:STANDARD
END:VTIMEZONE
END:VCALENDAR
