BEGIN:VCALENDAR
VERSION:2.0
PRODID:-//Plone.org//NONSGML plone.app.event//EN
X-WR-TIMEZONE:America/Sao_Paulo
BEGIN:VEVENT
SUMMARY:Integração com os novos intercambistas em [ Arena da praça de s
 erviços]
DTSTART;TZID=America/Sao_Paulo;VALUE=DATE-TIME:20240920T090000
DTEND;TZID=America/Sao_Paulo;VALUE=DATE-TIME:20240920T120000
DTSTAMP;VALUE=DATE-TIME:20260419T205646Z
UID:64e2eebe4ecc4c30b760b65f22bdd96c@150.164.76.86:8080
CREATED;VALUE=DATE-TIME:20240717T195922Z
DESCRIPTION:<p>Integração com os novos intercambistas</p>
LAST-MODIFIED;VALUE=DATE-TIME:20240731T141822Z
URL:http://150.164.76.86:8080/cac/agenda/2764264330632821657
END:VEVENT
BEGIN:VTIMEZONE
TZID:America/Sao_Paulo
X-LIC-LOCATION:America/Sao_Paulo
BEGIN:STANDARD
DTSTART;VALUE=DATE-TIME:20240217T230000
TZNAME:BRT
TZOFFSETFROM:-0200
TZOFFSETTO:-0300
END:STANDARD
END:VTIMEZONE
END:VCALENDAR
