BEGIN:VCALENDAR
VERSION:2.0
PRODID:-//Plone.org//NONSGML plone.app.event//EN
X-WR-TIMEZONE:America/Sao_Paulo
BEGIN:VEVENT
SUMMARY:Reserva Concerto de Natal Ars Nova em [ Auditorio da Reitoria]
DTSTART;TZID=America/Sao_Paulo;VALUE=DATE-TIME:20241216T080000
DTEND;TZID=America/Sao_Paulo;VALUE=DATE-TIME:20241216T210000
DTSTAMP;VALUE=DATE-TIME:20260419T163631Z
UID:703a9e026c474be581403e36e17d2c76@150.164.76.86:8080
CREATED;VALUE=DATE-TIME:20241113T140813Z
DESCRIPTION:<p>Reserva para concerto de Natal. Aguardando contato da PROCU
 LT com maiores detalhes.</p>
LAST-MODIFIED;VALUE=DATE-TIME:20241113T140844Z
URL:http://150.164.76.86:8080/cac/agenda/2757626482683261318
END:VEVENT
BEGIN:VTIMEZONE
TZID:America/Sao_Paulo
X-LIC-LOCATION:America/Sao_Paulo
BEGIN:DAYLIGHT
DTSTART;VALUE=DATE-TIME:20241020T010000
TZNAME:BRST
TZOFFSETFROM:-0300
TZOFFSETTO:-0200
END:DAYLIGHT
END:VTIMEZONE
END:VCALENDAR
