BEGIN:VCALENDAR
VERSION:2.0
PRODID:-//Plone.org//NONSGML plone.app.event//EN
X-WR-TIMEZONE:America/Sao_Paulo
BEGIN:VEVENT
SUMMARY:Comemoração dos 55 anos do Departamento de Engenharia Eletrônic
 a em [ Outros espacos]
DTSTART;TZID=America/Sao_Paulo;VALUE=DATE-TIME:20240322T170000
DTEND;TZID=America/Sao_Paulo;VALUE=DATE-TIME:20240322T190000
DTSTAMP;VALUE=DATE-TIME:20260420T063251Z
UID:3ac3e3f88f2d409c9d006758d0f957e6@150.164.76.86:8080
CREATED;VALUE=DATE-TIME:20240319T104238Z
DESCRIPTION:<p>Presença da reitora e vice-reitor</p>
LAST-MODIFIED;VALUE=DATE-TIME:20240319T122748Z
URL:http://150.164.76.86:8080/cac/agenda/2755831598384533297
END:VEVENT
BEGIN:VTIMEZONE
TZID:America/Sao_Paulo
X-LIC-LOCATION:America/Sao_Paulo
BEGIN:STANDARD
DTSTART;VALUE=DATE-TIME:20240217T230000
TZNAME:BRT
TZOFFSETFROM:-0200
TZOFFSETTO:-0300
END:STANDARD
END:VTIMEZONE
END:VCALENDAR
