BEGIN:VCALENDAR
VERSION:2.0
PRODID:-//Plone.org//NONSGML plone.app.event//EN
X-WR-TIMEZONE:America/Sao_Paulo
BEGIN:VEVENT
SUMMARY:Homenagem ex-deputada Áurea Carolina em [ Outros espacos]
DTSTART;TZID=America/Sao_Paulo;VALUE=DATE-TIME:20231201T103000
DTEND;TZID=America/Sao_Paulo;VALUE=DATE-TIME:20231201T120000
DTSTAMP;VALUE=DATE-TIME:20260420T102115Z
UID:15d2b9859951434193424190ab356dce@150.164.76.86:8080
CREATED;VALUE=DATE-TIME:20231124T181129Z
DESCRIPTION:<p>Homenagem</p>
LAST-MODIFIED;VALUE=DATE-TIME:20231124T181148Z
URL:http://150.164.76.86:8080/cac/agenda/2728841543658132162
END:VEVENT
BEGIN:VTIMEZONE
TZID:America/Sao_Paulo
X-LIC-LOCATION:America/Sao_Paulo
BEGIN:DAYLIGHT
DTSTART;VALUE=DATE-TIME:20231015T010000
TZNAME:BRST
TZOFFSETFROM:-0300
TZOFFSETTO:-0200
END:DAYLIGHT
END:VTIMEZONE
END:VCALENDAR
