BEGIN:VCALENDAR
VERSION:2.0
PRODID:-//Plone.org//NONSGML plone.app.event//EN
X-WR-TIMEZONE:America/Sao_Paulo
BEGIN:VEVENT
SUMMARY:Oficina de Capoeira DCE em [ Arena da praça de serviços]
DTSTART;TZID=America/Sao_Paulo;VALUE=DATE-TIME:20231121T120000
DTEND;TZID=America/Sao_Paulo;VALUE=DATE-TIME:20231121T140000
DTSTAMP;VALUE=DATE-TIME:20260420T130921Z
UID:de0ce1607310478c8028cf762b84b974@150.164.76.86:8080
CREATED;VALUE=DATE-TIME:20231026T162912Z
DESCRIPTION:oficina de capoeira DCE
LAST-MODIFIED;VALUE=DATE-TIME:20231030T132702Z
URL:http://150.164.76.86:8080/cac/agenda/2728302595549666686
END:VEVENT
BEGIN:VTIMEZONE
TZID:America/Sao_Paulo
X-LIC-LOCATION:America/Sao_Paulo
BEGIN:DAYLIGHT
DTSTART;VALUE=DATE-TIME:20231015T010000
TZNAME:BRST
TZOFFSETFROM:-0300
TZOFFSETTO:-0200
END:DAYLIGHT
END:VTIMEZONE
END:VCALENDAR
