BEGIN:VCALENDAR
VERSION:2.0
PRODID:-//Plone.org//NONSGML plone.app.event//EN
X-WR-TIMEZONE:America/Sao_Paulo
BEGIN:VEVENT
SUMMARY:Curso de Verão Português UC Chile 2024 em [ Arena da praça de s
 erviços]
DTSTART;TZID=America/Sao_Paulo;VALUE=DATE-TIME:20240122T130000
DTEND;TZID=America/Sao_Paulo;VALUE=DATE-TIME:20240122T180000
DTSTAMP;VALUE=DATE-TIME:20260420T080739Z
UID:46aef5a96b0a4cbc84c976b10530e4ea@150.164.76.86:8080
CREATED;VALUE=DATE-TIME:20231031T162943Z
DESCRIPTION:<p>A DRI/UFMG promoverá em janeiro de 2024 o Curso de Verão 
 Português UC Chile 2024 . Solicitamos reserva da arena raça de serviços
  para realização de um workshop de aula de dança. Será necessário res
 erva de uma caixa de som e um microfone. DATA 22\\01\\2024. 13h as 18h.</p
 >
LAST-MODIFIED;VALUE=DATE-TIME:20231116T132411Z
URL:http://150.164.76.86:8080/cac/agenda/2718022487343309634
END:VEVENT
BEGIN:VTIMEZONE
TZID:America/Sao_Paulo
X-LIC-LOCATION:America/Sao_Paulo
BEGIN:DAYLIGHT
DTSTART;VALUE=DATE-TIME:20231015T010000
TZNAME:BRST
TZOFFSETFROM:-0300
TZOFFSETTO:-0200
END:DAYLIGHT
END:VTIMEZONE
END:VCALENDAR
