BEGIN:VCALENDAR
VERSION:2.0
PRODID:-//Plone.org//NONSGML plone.app.event//EN
X-WR-TIMEZONE:America/Sao_Paulo
BEGIN:VEVENT
SUMMARY:Conferência Municipal de Segurança Alimentar em [ Auditório B10
 1/102 do CAD 3]
DTSTART;TZID=America/Sao_Paulo;VALUE=DATE-TIME:20230714T140000
DTEND;TZID=America/Sao_Paulo;VALUE=DATE-TIME:20230714T190000
DTSTAMP;VALUE=DATE-TIME:20260421T110504Z
UID:71cd9018273b49f6a03d5c52c0fc032c@150.164.76.86:8080
CREATED;VALUE=DATE-TIME:20230703T135240Z
DESCRIPTION:<p>A Conferência Municipal de Segurança Alimentar será um e
 vento realizado pela Prefeitura de Belo Horizonte em parceria com a Pró-r
 eitoria de Extensão\, nos dias 14 e 15 de julho.</p>
LAST-MODIFIED;VALUE=DATE-TIME:20230710T150457Z
URL:http://150.164.76.86:8080/cac/agenda/2717070513912213546
END:VEVENT
BEGIN:VTIMEZONE
TZID:America/Sao_Paulo
X-LIC-LOCATION:America/Sao_Paulo
BEGIN:STANDARD
DTSTART;VALUE=DATE-TIME:20230225T230000
TZNAME:BRT
TZOFFSETFROM:-0200
TZOFFSETTO:-0300
END:STANDARD
END:VTIMEZONE
END:VCALENDAR
