BEGIN:VCALENDAR
VERSION:2.0
PRODID:-//Plone.org//NONSGML plone.app.event//EN
X-WR-TIMEZONE:America/Sao_Paulo
BEGIN:VEVENT
SUMMARY:Assembléia de Professores do Departamento de Ciência da Computa
 ção em [ Auditório B101/102 do CAD 3]
DTSTART;TZID=America/Sao_Paulo;VALUE=DATE-TIME:20220930T080000
DTEND;TZID=America/Sao_Paulo;VALUE=DATE-TIME:20220930T180000
DTSTAMP;VALUE=DATE-TIME:20260422T012701Z
UID:c7d55b418a754df6b4d32f52f680ea68@150.164.76.86:8080
CREATED;VALUE=DATE-TIME:20220808T115854Z
DESCRIPTION:<p>- Sistema de som - Microfone - projetor - conexão a intern
 et Serão servidos 2 coffee break ao longo do evento</p>
LAST-MODIFIED;VALUE=DATE-TIME:20230111T201114Z
URL:http://150.164.76.86:8080/cac/agenda/2708089071390661593
END:VEVENT
BEGIN:VTIMEZONE
TZID:America/Sao_Paulo
X-LIC-LOCATION:America/Sao_Paulo
BEGIN:STANDARD
DTSTART;VALUE=DATE-TIME:20220219T230000
TZNAME:BRT
TZOFFSETFROM:-0200
TZOFFSETTO:-0300
END:STANDARD
END:VTIMEZONE
END:VCALENDAR
