BEGIN:VCALENDAR
VERSION:2.0
PRODID:-//Plone.org//NONSGML plone.app.event//EN
X-WR-TIMEZONE:America/Sao_Paulo
BEGIN:VEVENT
SUMMARY:Evento de COPEVE em [ Auditorio Nobre do CAD 1 Auditorio A102 do C
 ad 2 Auditorio A104 do Cad 2 Auditório B101/102 do CAD 3 Auditório B301 
 do CAD 3 Auditório B302 do CAD 3]
DTSTART;TZID=America/Sao_Paulo;VALUE=DATE-TIME:20220308T070000
DTEND;TZID=America/Sao_Paulo;VALUE=DATE-TIME:20220309T190000
DTSTAMP;VALUE=DATE-TIME:20260422T094208Z
UID:184d38b084584f6c855aba26a6260ac0@150.164.76.86:8080
CREATED;VALUE=DATE-TIME:20220125T172052Z
DESCRIPTION:<p>Vestibular da UFMG - Habilidades 2022</p>
LAST-MODIFIED;VALUE=DATE-TIME:20230111T201113Z
URL:http://150.164.76.86:8080/cac/agenda/2705133373513462836
END:VEVENT
BEGIN:VTIMEZONE
TZID:America/Sao_Paulo
X-LIC-LOCATION:America/Sao_Paulo
BEGIN:STANDARD
DTSTART;VALUE=DATE-TIME:20220219T230000
TZNAME:BRT
TZOFFSETFROM:-0200
TZOFFSETTO:-0300
END:STANDARD
END:VTIMEZONE
END:VCALENDAR
