BEGIN:VCALENDAR
VERSION:2.0
PRODID:-//Plone.org//NONSGML plone.app.event//EN
X-WR-TIMEZONE:America/Sao_Paulo
BEGIN:VEVENT
SUMMARY:Teste de agendamento em [ Auditorio A102 do Cad 2]
DTSTART;TZID=America/Sao_Paulo;VALUE=DATE-TIME:20220211T150000
DTEND;TZID=America/Sao_Paulo;VALUE=DATE-TIME:20220211T160000
DTSTAMP;VALUE=DATE-TIME:20260422T111534Z
UID:a6c5774c65c84605b538f3adbf9ee5fb@150.164.76.86:8080
CREATED;VALUE=DATE-TIME:20220210T171412Z
DESCRIPTION:<p>Teste de agendamento do sistema</p>
LAST-MODIFIED;VALUE=DATE-TIME:20220210T200820Z
URL:http://150.164.76.86:8080/cac/agenda/2693204293921512873
END:VEVENT
BEGIN:VTIMEZONE
TZID:America/Sao_Paulo
X-LIC-LOCATION:America/Sao_Paulo
BEGIN:DAYLIGHT
DTSTART;VALUE=DATE-TIME:20211017T010000
TZNAME:BRST
TZOFFSETFROM:-0300
TZOFFSETTO:-0200
END:DAYLIGHT
END:VTIMEZONE
END:VCALENDAR
