BEGIN:VCALENDAR
VERSION:2.0
PRODID:-//Plone.org//NONSGML plone.app.event//EN
X-WR-TIMEZONE:America/Sao_Paulo
BEGIN:VEVENT
SUMMARY:Acesso e Permanência de Pessoas Negras na Pós-Graduação em [ A
 uditório B106 do CAD3]
DTSTART;TZID=America/Sao_Paulo;VALUE=DATE-TIME:20221122T160000
DTEND;TZID=America/Sao_Paulo;VALUE=DATE-TIME:20221122T180000
DTSTAMP;VALUE=DATE-TIME:20260421T221843Z
UID:2e17f0f4919b4609944fa8f99c16b406@150.164.76.86:8080
CREATED;VALUE=DATE-TIME:20221101T140705Z
DESCRIPTION:<p>Ação interna à programação geral do Novembro Negro: - 
 mesa-redonda com representantes da Pró-Reitoria de Pós-Graduação\, da 
 Comissão Permanente de Ações Afirmativas e Inclusão\, da Associação 
 de Pós-Graduandos e do PET Conexões de Saberes\; - computador\, equipame
 nto para projeção/datashow\, microfone e equipamento de áudio</p>
LAST-MODIFIED;VALUE=DATE-TIME:20221101T200353Z
URL:http://150.164.76.86:8080/cac/agenda/2691296477933939592
END:VEVENT
BEGIN:VTIMEZONE
TZID:America/Sao_Paulo
X-LIC-LOCATION:America/Sao_Paulo
BEGIN:DAYLIGHT
DTSTART;VALUE=DATE-TIME:20221016T010000
TZNAME:BRST
TZOFFSETFROM:-0300
TZOFFSETTO:-0200
END:DAYLIGHT
END:VTIMEZONE
END:VCALENDAR
