BEGIN:VCALENDAR
VERSION:2.0
PRODID:-//Plone.org//NONSGML plone.app.event//EN
X-WR-TIMEZONE:America/Sao_Paulo
BEGIN:VEVENT
SUMMARY:EXAME CELPE-BRAS em [ Auditorio A102 do Cad 2]
DTSTART;TZID=America/Sao_Paulo;VALUE=DATE-TIME:20240423T080000
DTEND;TZID=America/Sao_Paulo;VALUE=DATE-TIME:20240423T130000
DTSTAMP;VALUE=DATE-TIME:20260420T044357Z
UID:bab75b4ea697428f96c578575e9a6147@150.164.76.86:8080
CREATED;VALUE=DATE-TIME:20240227T133130Z
DESCRIPTION:<p>Aplicação do exame Celpe-bras de certificação em língu
 a portuguesa para estrangeiros. Acesso dos candidatos a partir das 08:00 p
 ara identificação. Prova iniciando às 09:00 e terminando entre 12:00 e 
 12:30. Equipamentos necessários: Laptop ou computador Data-show\; Som\; M
 icrofone\; Mesa.</p>
LAST-MODIFIED;VALUE=DATE-TIME:20240227T140357Z
URL:http://150.164.76.86:8080/cac/agenda/2686877931594406334
END:VEVENT
BEGIN:VTIMEZONE
TZID:America/Sao_Paulo
X-LIC-LOCATION:America/Sao_Paulo
BEGIN:STANDARD
DTSTART;VALUE=DATE-TIME:20240217T230000
TZNAME:BRT
TZOFFSETFROM:-0200
TZOFFSETTO:-0300
END:STANDARD
END:VTIMEZONE
END:VCALENDAR
