BEGIN:VCALENDAR
VERSION:2.0
PRODID:-//Plone.org//NONSGML plone.app.event//EN
X-WR-TIMEZONE:America/Sao_Paulo
BEGIN:VEVENT
SUMMARY:Reunião Sala de Sessões - Fundações de Apoio em [ Outros espac
 os]
DTSTART;TZID=America/Sao_Paulo;VALUE=DATE-TIME:20230410T100000
DTEND;TZID=America/Sao_Paulo;VALUE=DATE-TIME:20230410T130000
DTSTAMP;VALUE=DATE-TIME:20260421T145729Z
UID:aaa079481ea94582bcabb650e984f37f@150.164.76.86:8080
CREATED;VALUE=DATE-TIME:20230330T175538Z
DESCRIPTION:<p><span>suporte técnico audiovisual para a Sala dos Conselho
 s\, no dia 10/4 às 10 horas. Reunião com Fundações de Apoio.</span></p
 >
LAST-MODIFIED;VALUE=DATE-TIME:20230330T175554Z
URL:http://150.164.76.86:8080/cac/agenda/2683091734969929346
END:VEVENT
BEGIN:VTIMEZONE
TZID:America/Sao_Paulo
X-LIC-LOCATION:America/Sao_Paulo
BEGIN:STANDARD
DTSTART;VALUE=DATE-TIME:20230225T230000
TZNAME:BRT
TZOFFSETFROM:-0200
TZOFFSETTO:-0300
END:STANDARD
END:VTIMEZONE
END:VCALENDAR
