BEGIN:VCALENDAR
VERSION:2.0
PRODID:-//Plone.org//NONSGML plone.app.event//EN
X-WR-TIMEZONE:America/Sao_Paulo
BEGIN:VEVENT
SUMMARY:Troca de Gestão- Engenharia Solidária em []
DTSTART;TZID=America/Sao_Paulo;VALUE=DATE-TIME:20221216T170000
DTEND;TZID=America/Sao_Paulo;VALUE=DATE-TIME:20221216T210000
DTSTAMP;VALUE=DATE-TIME:20260421T205120Z
UID:22647737ddb24811acd044b998ef3fab@150.164.76.86:8080
CREATED;VALUE=DATE-TIME:20220818T014002Z
DESCRIPTION:<p>Estamos no final desta gestão atual e gostaríamos de real
 izar uma solenidade para despedir dos membros que vão e receber os novos.
  Planejamos que seja apenas uma apresentação de slides com os resultados
  das ações do semestre. Para isso gostaríamos de microfone\, projetor e
  cabos para conectar o projetor ao nosso notebook.</p>
LAST-MODIFIED;VALUE=DATE-TIME:20230111T201141Z
URL:http://150.164.76.86:8080/cac/agenda/2652133778758440264
END:VEVENT
BEGIN:VTIMEZONE
TZID:America/Sao_Paulo
X-LIC-LOCATION:America/Sao_Paulo
BEGIN:DAYLIGHT
DTSTART;VALUE=DATE-TIME:20221016T010000
TZNAME:BRST
TZOFFSETFROM:-0300
TZOFFSETTO:-0200
END:DAYLIGHT
END:VTIMEZONE
END:VCALENDAR
