BEGIN:VCALENDAR
VERSION:2.0
PRODID:-//Plone.org//NONSGML plone.app.event//EN
X-WR-TIMEZONE:America/Sao_Paulo
BEGIN:VEVENT
SUMMARY:VIII Simpósio Zebrafish Como Modelo Animal de Pesquisa em [ Audit
 ório B101/102 do CAD 3]
DTSTART;TZID=America/Sao_Paulo;VALUE=DATE-TIME:20240513T070000
DTEND;TZID=America/Sao_Paulo;VALUE=DATE-TIME:20240517T190000
DTSTAMP;VALUE=DATE-TIME:20260420T031201Z
UID:5bfd35252d764e768a391c7a1f992dda@150.164.76.86:8080
CREATED;VALUE=DATE-TIME:20240109T141608Z
DESCRIPTION:<p>6 microfones sem fio ou 4 microfones de mesa e 2 sem fio\; 
 sala para tradução simultânea\; projetor\; mesa e 4 cadeiras no palco p
 ara os palestrantes</p>
LAST-MODIFIED;VALUE=DATE-TIME:20240404T181740Z
URL:http://150.164.76.86:8080/cac/agenda/2643369110423329261
END:VEVENT
BEGIN:VTIMEZONE
TZID:America/Sao_Paulo
X-LIC-LOCATION:America/Sao_Paulo
BEGIN:STANDARD
DTSTART;VALUE=DATE-TIME:20240217T230000
TZNAME:BRT
TZOFFSETFROM:-0200
TZOFFSETTO:-0300
END:STANDARD
END:VTIMEZONE
END:VCALENDAR
