BEGIN:VCALENDAR
VERSION:2.0
PRODID:-//Plone.org//NONSGML plone.app.event//EN
X-WR-TIMEZONE:America/Sao_Paulo
BEGIN:VEVENT
SUMMARY:Reunião de Equipe da Reitora em [ Outros espacos]
DTSTART;TZID=America/Sao_Paulo;VALUE=DATE-TIME:20250509T093000
DTEND;TZID=America/Sao_Paulo;VALUE=DATE-TIME:20250509T123000
DTSTAMP;VALUE=DATE-TIME:20260419T090922Z
UID:b8e2bfe97eda4f9b8623b401c48217a6@150.164.76.86:8080
CREATED;VALUE=DATE-TIME:20250417T121736Z
DESCRIPTION:<p>Reunião de equipe da Reitora</p>
LAST-MODIFIED;VALUE=DATE-TIME:20250417T121747Z
URL:http://150.164.76.86:8080/cac/agenda/2630590139676100120
END:VEVENT
BEGIN:VTIMEZONE
TZID:America/Sao_Paulo
X-LIC-LOCATION:America/Sao_Paulo
BEGIN:STANDARD
DTSTART;VALUE=DATE-TIME:20250215T230000
TZNAME:BRT
TZOFFSETFROM:-0200
TZOFFSETTO:-0300
END:STANDARD
END:VTIMEZONE
END:VCALENDAR
