BEGIN:VCALENDAR
VERSION:2.0
PRODID:-//Plone.org//NONSGML plone.app.event//EN
X-WR-TIMEZONE:America/Sao_Paulo
BEGIN:VEVENT
SUMMARY:Seminário Fhemig/UFMG em [ Outros espacos]
DTSTART;TZID=America/Sao_Paulo;VALUE=DATE-TIME:20241113T140000
DTEND;TZID=America/Sao_Paulo;VALUE=DATE-TIME:20241113T160000
DTSTAMP;VALUE=DATE-TIME:20260419T175500Z
UID:b5fb6396bca8484eaff271ac7864ddea@150.164.76.86:8080
CREATED;VALUE=DATE-TIME:20240416T120355Z
DESCRIPTION:Seminário parte da parceria UFMG/Fhemig
LAST-MODIFIED;VALUE=DATE-TIME:20240418T141857Z
URL:http://150.164.76.86:8080/cac/agenda/2629480307012600665
END:VEVENT
BEGIN:VTIMEZONE
TZID:America/Sao_Paulo
X-LIC-LOCATION:America/Sao_Paulo
BEGIN:DAYLIGHT
DTSTART;VALUE=DATE-TIME:20241020T010000
TZNAME:BRST
TZOFFSETFROM:-0300
TZOFFSETTO:-0200
END:DAYLIGHT
END:VTIMEZONE
END:VCALENDAR
