BEGIN:VCALENDAR
VERSION:2.0
PRODID:-//Plone.org//NONSGML plone.app.event//EN
X-WR-TIMEZONE:America/Sao_Paulo
BEGIN:VEVENT
SUMMARY:Encontro de Familiares e Usuários de Saúde Mental de Minas Gerai
 s em [ Auditorio Nobre do CAD 1]
DTSTART;TZID=America/Sao_Paulo;VALUE=DATE-TIME:20231003T090000
DTEND;TZID=America/Sao_Paulo;VALUE=DATE-TIME:20231003T180000
DTSTAMP;VALUE=DATE-TIME:20260420T130958Z
UID:6b900570362b482c93ff09cdd59365aa@150.164.76.86:8080
CREATED;VALUE=DATE-TIME:20230206T190601Z
DESCRIPTION:<p>Equipamentos necessários: sistema de audio visual Mobiliá
 rio necessário: 5 mesas com cadeiras para o credenciamento Salas de aula:
  5 8hs – Credenciamento 8hs – Palco Aberto (manifestação livre) 9hs 
 - Abertura 9h30 às 12hs - Grupos de Trabalho 12hs às 13h30 - Horário de
  Almoço e Palco Aberto 13h30 às 16hs - Grupos de trabalho 16h a 16h20 - 
 lanche 16h20 a 17h40 - Plenária Final e Encerramento dos trabalhos</p>
LAST-MODIFIED;VALUE=DATE-TIME:20230727T180554Z
URL:http://150.164.76.86:8080/cac/agenda/2604778583626633576
END:VEVENT
BEGIN:VTIMEZONE
TZID:America/Sao_Paulo
X-LIC-LOCATION:America/Sao_Paulo
BEGIN:STANDARD
DTSTART;VALUE=DATE-TIME:20230225T230000
TZNAME:BRT
TZOFFSETFROM:-0200
TZOFFSETTO:-0300
END:STANDARD
END:VTIMEZONE
END:VCALENDAR
