BEGIN:VCALENDAR
VERSION:2.0
PRODID:-//Plone.org//NONSGML plone.app.event//EN
X-WR-TIMEZONE:America/Sao_Paulo
BEGIN:VEVENT
SUMMARY:Novembro Negro UFMG em [ Auditorio da Reitoria]
DTSTART;TZID=America/Sao_Paulo;VALUE=DATE-TIME:20231123T090000
DTEND;TZID=America/Sao_Paulo;VALUE=DATE-TIME:20231123T200000
DTSTAMP;VALUE=DATE-TIME:20260420T143029Z
UID:0b6d8ead6ec148ceaa4c6ca04cd89b4d@150.164.76.86:8080
CREATED;VALUE=DATE-TIME:20231006T204804Z
DESCRIPTION:<p>a ser informado</p>
LAST-MODIFIED;VALUE=DATE-TIME:20231108T130752Z
URL:http://150.164.76.86:8080/cac/agenda/2588699271904011834
END:VEVENT
BEGIN:VTIMEZONE
TZID:America/Sao_Paulo
X-LIC-LOCATION:America/Sao_Paulo
BEGIN:DAYLIGHT
DTSTART;VALUE=DATE-TIME:20231015T010000
TZNAME:BRST
TZOFFSETFROM:-0300
TZOFFSETTO:-0200
END:DAYLIGHT
END:VTIMEZONE
END:VCALENDAR
