BEGIN:VCALENDAR
VERSION:2.0
PRODID:-//Plone.org//NONSGML plone.app.event//EN
X-WR-TIMEZONE:America/Sao_Paulo
BEGIN:VEVENT
SUMMARY:Recepção de Estudantes | 1º Semestre de 2025 em [ Outros espaco
 s]
DTSTART;TZID=America/Sao_Paulo;VALUE=DATE-TIME:20250310T080000
DTEND;TZID=America/Sao_Paulo;VALUE=DATE-TIME:20250314T170000
DTSTAMP;VALUE=DATE-TIME:20260419T103148Z
UID:bade234c54a341aa91e5e8685af1732f@150.164.76.86:8080
CREATED;VALUE=DATE-TIME:20250130T134709Z
DESCRIPTION:Trata-se da Recepção de Estudantes que acontece no início d
 e cada semestre organizada pela Diretoria de Políticas de Apoio a Projeto
 s de Estudantes da PRAE.\n\nVamos montar uma Tenda de Plástico (Tipo Gaze
 bo) na Praça ao lado do Entorno da Praça de Serviços.\n\nEssa Tenda med
 e 3M X 3M.
LAST-MODIFIED;VALUE=DATE-TIME:20250130T150203Z
URL:http://150.164.76.86:8080/cac/agenda/2586849806609466103
END:VEVENT
BEGIN:VTIMEZONE
TZID:America/Sao_Paulo
X-LIC-LOCATION:America/Sao_Paulo
BEGIN:STANDARD
DTSTART;VALUE=DATE-TIME:20250215T230000
TZNAME:BRT
TZOFFSETFROM:-0200
TZOFFSETTO:-0300
END:STANDARD
END:VTIMEZONE
END:VCALENDAR
