BEGIN:VCALENDAR
VERSION:2.0
PRODID:-//Plone.org//NONSGML plone.app.event//EN
X-WR-TIMEZONE:America/Sao_Paulo
BEGIN:VEVENT
SUMMARY:IX Fórum Regional em [ Auditório B101/102 do CAD 3]
DTSTART;TZID=America/Sao_Paulo;VALUE=DATE-TIME:20230922T070000
DTEND;TZID=America/Sao_Paulo;VALUE=DATE-TIME:20230922T210000
DTSTAMP;VALUE=DATE-TIME:20260421T075333Z
UID:3bc54a75c7944c38bafce022601486d9@150.164.76.86:8080
CREATED;VALUE=DATE-TIME:20230823T125257Z
DESCRIPTION:<p>Equipamentos: Tela+projetor\, microfone\, caixa de som\, in
 ternet wifi. Gostaríamos de utilizar o espaço externo (cantina) do CAD3 
 para os coffees breaks Programação do evento: 21/9 (quinta) - montagem 2
 2/9 (sexta) ~7h30/8h - Evento - Chegada da equipe para últimos ajustes an
 tes do início do evento\; ~8h30 às 9h - Abertura do Credenciamento\; ~9h
  às 18h30/19h - Realização do evento já considerando os 2 coffee break
 s (manhã e tarde) + pausa para o almoço ~18h30/19h às 21h - Desmontagem
  após o término do evento e pode ir até umas 21h com a nossa transporta
 dora passando para coletar nesse mesmo dia ao término da desmontagem\;</p
 >
LAST-MODIFIED;VALUE=DATE-TIME:20230913T130341Z
URL:http://150.164.76.86:8080/cac/agenda/2577629975804460634
END:VEVENT
BEGIN:VTIMEZONE
TZID:America/Sao_Paulo
X-LIC-LOCATION:America/Sao_Paulo
BEGIN:STANDARD
DTSTART;VALUE=DATE-TIME:20230225T230000
TZNAME:BRT
TZOFFSETFROM:-0200
TZOFFSETTO:-0300
END:STANDARD
END:VTIMEZONE
END:VCALENDAR
