BEGIN:VCALENDAR
VERSION:2.0
PRODID:-//Plone.org//NONSGML plone.app.event//EN
X-WR-TIMEZONE:America/Sao_Paulo
BEGIN:VEVENT
SUMMARY:Eleições brasileiras de 2022: quais lições? em [ Auditorio A10
 4 do Cad 2]
DTSTART;TZID=America/Sao_Paulo;VALUE=DATE-TIME:20221007T133000
DTEND;TZID=America/Sao_Paulo;VALUE=DATE-TIME:20221007T180000
DTSTAMP;VALUE=DATE-TIME:20260421T234941Z
UID:49ee4cb820b945b8a1550020abd5488c@150.164.76.86:8080
CREATED;VALUE=DATE-TIME:20220929T122224Z
DESCRIPTION:<p>Realização de seminário no âmbito do Programa de Pós-g
 raduação em Ciência Política. </p>
LAST-MODIFIED;VALUE=DATE-TIME:20220930T175622Z
URL:http://150.164.76.86:8080/cac/agenda/2576859015711666865
END:VEVENT
BEGIN:VTIMEZONE
TZID:America/Sao_Paulo
X-LIC-LOCATION:America/Sao_Paulo
BEGIN:STANDARD
DTSTART;VALUE=DATE-TIME:20220219T230000
TZNAME:BRT
TZOFFSETFROM:-0200
TZOFFSETTO:-0300
END:STANDARD
END:VTIMEZONE
END:VCALENDAR
