BEGIN:VCALENDAR
VERSION:2.0
PRODID:-//Plone.org//NONSGML plone.app.event//EN
X-WR-TIMEZONE:America/Sao_Paulo
BEGIN:VEVENT
SUMMARY:Seminário Indígena em [ Outros espacos]
DTSTART;TZID=America/Sao_Paulo;VALUE=DATE-TIME:20230526T080000
DTEND;TZID=America/Sao_Paulo;VALUE=DATE-TIME:20230526T120000
DTSTAMP;VALUE=DATE-TIME:20260421T133919Z
UID:0c655a616b6c4567b7dd34a623f7aecf@150.164.76.86:8080
CREATED;VALUE=DATE-TIME:20230510T125838Z
DESCRIPTION:Evento de encerramento do Seminário Direitos Indígenas: Diá
 logos no Contexto de Retomada Democrática\nO evento contará com a partic
 ipação de coletividades indígenas\, da Deputada Federal Célia Xacriab
 á e das Pró-reitoras de assuntos estudantis\,\ndebatendo politicas de ac
 esso e permanência estudantil na UFMG
LAST-MODIFIED;VALUE=DATE-TIME:20230510T150615Z
URL:http://150.164.76.86:8080/cac/agenda/2541067199042871405
END:VEVENT
BEGIN:VTIMEZONE
TZID:America/Sao_Paulo
X-LIC-LOCATION:America/Sao_Paulo
BEGIN:STANDARD
DTSTART;VALUE=DATE-TIME:20230225T230000
TZNAME:BRT
TZOFFSETFROM:-0200
TZOFFSETTO:-0300
END:STANDARD
END:VTIMEZONE
END:VCALENDAR
