BEGIN:VCALENDAR
VERSION:2.0
PRODID:-//Plone.org//NONSGML plone.app.event//EN
X-WR-TIMEZONE:America/Sao_Paulo
BEGIN:VEVENT
SUMMARY:Reunião PRAE em [ Outros espacos]
DTSTART;TZID=America/Sao_Paulo;VALUE=DATE-TIME:20221107T150000
DTEND;TZID=America/Sao_Paulo;VALUE=DATE-TIME:20221107T170000
DTSTAMP;VALUE=DATE-TIME:20260421T221747Z
UID:b3cfcd76d3d44f8fb05e853e24b984d7@150.164.76.86:8080
CREATED;VALUE=DATE-TIME:20221031T193818Z
DESCRIPTION:<p><span>Reunião do Observatório da PRAE</span></p>
LAST-MODIFIED;VALUE=DATE-TIME:20221101T190603Z
URL:http://150.164.76.86:8080/cac/agenda/2520885576964543642
END:VEVENT
BEGIN:VTIMEZONE
TZID:America/Sao_Paulo
X-LIC-LOCATION:America/Sao_Paulo
BEGIN:DAYLIGHT
DTSTART;VALUE=DATE-TIME:20221016T010000
TZNAME:BRST
TZOFFSETFROM:-0300
TZOFFSETTO:-0200
END:DAYLIGHT
END:VTIMEZONE
END:VCALENDAR
