BEGIN:VCALENDAR
VERSION:2.0
PRODID:-//Plone.org//NONSGML plone.app.event//EN
X-WR-TIMEZONE:America/Sao_Paulo
BEGIN:VEVENT
SUMMARY:Concurso da UPA/ Centro Sul em [ Auditorio Nobre do CAD 1 Auditori
 o 1A do CAD 1 Auditorio 2A do CAD 1 Auditorio A102 do Cad 2 Auditorio A104
  do Cad 2 Outros espacos]
DTSTART;TZID=America/Sao_Paulo;VALUE=DATE-TIME:20250329T120000
DTEND;TZID=America/Sao_Paulo;VALUE=DATE-TIME:20250330T210000
DTSTAMP;VALUE=DATE-TIME:20260419T120252Z
UID:a80ab6abfd8548feb90d2750090cbf89@150.164.76.86:8080
CREATED;VALUE=DATE-TIME:20250117T144929Z
DESCRIPTION:<p><span>Aplicação das provas do </span><span>concurso da U
 PA/ Centro Sul</span><span>\, organizado pela FUNDEP.</span></p>
LAST-MODIFIED;VALUE=DATE-TIME:20250127T174916Z
URL:http://150.164.76.86:8080/cac/agenda/2507850802514551371
END:VEVENT
BEGIN:VTIMEZONE
TZID:America/Sao_Paulo
X-LIC-LOCATION:America/Sao_Paulo
BEGIN:STANDARD
DTSTART;VALUE=DATE-TIME:20250215T230000
TZNAME:BRT
TZOFFSETFROM:-0200
TZOFFSETTO:-0300
END:STANDARD
END:VTIMEZONE
END:VCALENDAR
